Workbook

Sheet Hoja1
B5: Comparación de las Ventas enero a mayo
C6: 2013 | D6: 2014
B7: Pertimorf | C7: 0 | D7: =COMPORTAMIENTO!J17 -> 55
C17: Pertimort desde enero a mayo
B18: 2013 | E18: 2014
B19: Clintes | C19: Cantidad | D19: Clintes | G19: Cantidad
C20: 0 | D20: CCS Manuel Fajardo San José | G20: =Mayabeque!C181 -> 40
C21: 0 | D21: CCS Luís Ruiz Pallares (Cotorro) | G21: ='Otros clientes'!E96 -> 0
C22: 0 | D22: CCS Enrique Hart Dávalo (Cotorro) | G22: ='Otros clientes'!#REF! -> #REF!
C23: 0 | D23: Emp. Agrop. Metropolitana (Boyero) | G23: ='Otros clientes'!E97 -> 0
B24: Total | G24: =SUM(G20:G23) -> #REF!
B25: 2013
B26: Clientes | E26: Mes | F26: Cantidad
B27: Jaruco | E27: octubre | F27: =[1]Mayabeque!$O$66 -> 50
B28: CCS Israel Reyes Zayas (Cotorro) | E28: nov | F28: ='[1]Otros clientes'!$P$64 -> 2
B29: CCS Enrique Hart Dávalos (Cotorro) | E29: diciembre | F29: ='[1]Otros clientes'!$P$65 -> 5
B30: CCS José Maceo | F30: ='[1]Otros clientes'!$Q$66 -> 12
B31: Total | F31: =SUM(F27:F30) -> 69

Sheet Plan
C1: Campaña de Maíz Provincia Mayabeque | Q1: Campaña de Maiz Labiofam 2015
C2: 2015
E3: EcoMic Kg | J3: Quitomax | P3: EcoMic Kg | R3: Quitomax
A4: Empresas | B4: Municipio | C4: Áreas a Sembrar | D4: Kg/ha | E4: Plan | G4: Real | H4: Dosis/ha | J4: Plan | K4: Real | O4: Provincias | P4: Plan | Q4: Real | R4: Plan | T4: Real
A5: 19 de Abril | B5: Quivicán 230 ha | C5: 490 | D5: 2 | E5: =C5*2 -> 980 | H5: 1 | J5: =C5 -> 490 | O5: Labiofam | P5: 4000 | Q5: 5000 | R5: 2000
A6: Batabanó | B6: Batabanó | C6: 475 | D6: 2 | E6: =C6*2 -> 950 | G6: 480 | H6: 1 | J6: =C6 -> 475 | K6: 480 | O6: Cienfuegos | Q6: 4000 | T6: 4000
A7: Melena del Sur | B7: Melena 370ha | C7: 685.24 | D7: 2 | E7: 1380 | H7: 1 | J7: =C7 -> 685.24 | O7: Holgún | Q7: 2000 | T7: 1000
A8: Miguel Soneira | B8: Güines | C8: 624 | D8: 2 | E8: =C8*2 -> 1248 | G8: 1260 | H8: 1 | J8: =C8 -> 624 | K8: 624 | O8: Total | P8: =SUM(P5:P7) -> 4000 | Q8: =SUM(Q5:Q7) -> 11000 | R8: =R5 -> 2000 | T8: =SUM(T6:T7) -> 5000
A9: Nueva Paz | B9: Nueva Paz | C9: 1300 | D9: 2 | E9: =C9*2 -> 2600 | H9: 1 | J9: =C9 -> 1300 | O9: Ingreso | Q9: =Q8*2.5 -> 27500 | T9: =T8*15 -> 75000
A10: Nazareno | B10: San José | C10: 120 | D10: 2 | E10: =C10*2 -> 240 | H10: 1 | J10: =C10 -> 120
A11: Villena | B11: Madruga | C11: 130 | D11: 2 | E11: =C11*2 -> 260 | H11: 1 | J11: =C11 -> 130
A12: Genética del Este | B12: Madruga | C12: 90 | D12: 2 | E12: =C12*2 -> 180 | H12: 1 | J12: =C12 -> 90
A13: TOTAL | B13: Total | C13: =SUM(C5,C6,C7,C8,C9,C10,C11,C12) -> 3914.24 | E13: =SUM(E5:E12) -> 7838 | G13: =SUM(G6:G12) -> 1740 | J13: =SUM(J5:J12) -> 3914.24 | K13: =SUM(K5:K12) -> 1104
A14: Ingreso | G14: =G13*2.5 -> 4350 | K14: =K13*15 -> 16560
C16: Campaña de Sorgo Provincia Mayabeque
C17: 2015
E18: EcoMic Kg | J18: Quitomax
A19: Empresas | B19: Municipio | C19: Áreas a Sembrar | D19: Kg/ha | E19: Plan | G19: Real | H19: Dosis/ha | J19: Plan | K19: Real
A20: Villena | B20: Madruga | C20: 153 | D20: 1 | E20: 153 | G20: 160 | H20: 1 | J20: =E20 -> 153 | K20: 154
A22: Total
C27: Campaña de Frijol Provincia Mayabeque | Q27: Campaña de Papa Provincia Mayabeque
C28: 2015 | Q28: 2015
E29: EcoMic (Kg) | H29: AzoFert (U) | K29: QuitoMax (U) | R29: Quitomax | T29: Quitomax
A30: Empresas | B30: Municipio | C30: Áreas a Sembrar | D30: Kg/ha | E30: Plan | F30: Conciliado | G30: Real | H30: Plan | I30: Conciliado | J30: Real | K30: Plan | L30: Conciliado | M30: Real | O30: Empresas | P30: Municipio | Q30: Áreas a Sembrar | R30: Plan | S30: Conciliado | T30: Real
A31: 19 de Abril | B31: Quivicán | D31: 4 | O31: 19 de Abril | P31: Quivicán
A32: Batabanó | B32: Batabanó | D32: 4 | O32: Batabanó | P32: Batabanó
A33: Melena del Sur | B33: Melena | D33: 4 | O33: Melena del Sur | P33: Melena del Sur
A34: Miguel Soneira | B34: Güines | D34: 4 | O34: Miguel Soneira | P34: Güines
A35: Nueva Paz | B35: Nueva Paz | D35: 4 | O35: Nueva Paz | P35: Nueva Paz
A36: Nazareno | B36: San José | D36: 4 | O36: Nazareno | P36: San José
A37: Villena | B37: Madruga | D37: 4 | O37: Villena | P37: Madruga
A38: Genética del Este | B38: Madruga | D38: 4
A39: Santa Cruz | B39: Santa Cruz | D39: 4
A40: Camilo Cienfuegos | B40: Jaruco | D40: 4 | O40: TOTAL | P40: Total | Q40: =SUM(Q31,Q32,Q33,Q34,Q35,Q36,Q37) -> 0 | R40: =SUM(R31:R37) -> 0 | S40: =SUM(S31,S32,S33,S34,S35,S36,S37,S38,S39) -> 0 | T40: =SUM(T31:T37) -> 0
A41: TOTAL | B41: Total | C41: =SUM(C31+C32+C33+C34+C35+C36+C37+C38+C39+C40) -> 0 | D41: 4 | E41: =SUM(E31,E33,E32,E34,E35,E36,E37,E38,E39,E40) -> 0 | F41: =SUM(F31,F32,F33,F34,F35,F36,F37,F38,F39,F40) -> 0 | G41: =SUM(G31,G32,G34,G33,G35,G36,G37,G38,G39) -> 0 | H41: =SUM(H31,H32,H33,H34,H35,H36,H37,H38,H39) -> 0 | I41: =SUM(I31,I32,I33,I34,I35,I36,I37,I38,I39,I40) -> 0 | J41: =SUM(J31,J32,J33,J34,J35,J36,J37,J38,J39) -> 0 | K41: =SUM(K31,K32,K33,K34,K35,K36,K37,K38,K39) -> 0 | L41: =SUM(L31,L32,L33,L34,L35,L36,L37,L38,L39,L40) -> 0 | M41: =SUM(M31,M32,M33,M34,M35,M36,M37,M38,M39) -> 0

Sheet COMPORTAMIENTO
B2: Comportamiento de las ventas 2016
A4: Mes | B4: EcoMic (kg) | C4: Ingreso CUC | D4: Ingreso CUP | E4: Azofert (Dosis) | F4: Ingreso CUP | G4: Ingreso CUP | H4: Quitomax (Dosis) | I4: Ingreso CUP | J4: Pectimorf (Dosis) | K4: Ingreso CUP | L4: Ingreso Fisiología CUP
A5: Enero | B5: =Mayabeque!D37+Artemisa!F13+'Otros clientes'!F25 -> 40 | C5: 0 | D5: =B5*8 -> 320 | E5: =Mayabeque!D73+'Otros clientes'!F46+Artemisa!F27 -> 27 | F5: =E5*15.53 -> 419.31 | G5: =E5*34 -> 918 | H5: =SUM(Mayabeque!D117,Mayabeque!D161,Artemisa!F44,Artemisa!F62,'Otros clientes'!F67,'Otros clientes'!F87) -> 892 | I5: =SUM(Mayabeque!D118,Mayabeque!D162,Artemisa!F45,Artemisa!F63,'Otros clientes'!F68,'Otros clientes'!F88) -> 43160 | J5: =Mayabeque!D192+'Otros clientes'!F104 -> 55 | K5: =J5*12.44 -> 684.2 | L5: =SUM(G5,I5,K5) -> 44762.2
A6: Febrero | B6: =Mayabeque!E37+'Otros clientes'!G25+Artemisa!G13 -> 0 | C6: =SUM('Otros clientes'!G17)*3 -> 600 | D6: =B6*8 -> 0 | E6: =Mayabeque!E73+'Otros clientes'!G46+Artemisa!G27 -> 0 | F6: =E6*15.53 -> 0 | G6: =E6*34 -> 0 | H6: =SUM(Mayabeque!E117,Mayabeque!E161,Artemisa!G44,Artemisa!G62,'Otros clientes'!G67,'Otros clientes'!G87) -> 508 | I6: =SUM(Mayabeque!E118,Mayabeque!E162,Artemisa!G45,Artemisa!G63,'Otros clientes'!G88,'Otros clientes'!G68) -> 25400 | J6: 0 | K6: 0 | L6: =SUM(G6,I6,K6) -> 25400
A7: Marzo | B7: =Mayabeque!F37+'Otros clientes'!H25+Artemisa!H13 -> 0 | C7: 0 | D7: =B7*8 -> 0 | E7: =Mayabeque!F73+'Otros clientes'!H46+Artemisa!H27 -> 0 | F7: =E7*15.53 -> 0 | G7: =E7*34 -> 0 | H7: =SUM(Mayabeque!F117,Mayabeque!F161,Artemisa!H44,Artemisa!H62,'Otros clientes'!H67,'Otros clientes'!H87) -> 0 | I7: =SUM(Mayabeque!F118,Mayabeque!F162,Artemisa!H63,Artemisa!H45,'Otros clientes'!H68,'Otros clientes'!H88) -> 0 | J7: =Mayabeque!F192+'Otros clientes'!H104 -> 0 | K7: =J7*12.44 -> 0 | L7: =SUM(G7,I7,K7) -> 0
A8: Abril | B8: =Mayabeque!G37+'Otros clientes'!I25+Artemisa!I13 -> 0 | C8: =SUM('Otros clientes'!I15)*3 -> 0 | D8: ='Otros clientes'!I25*8 -> 0 | E8: =Mayabeque!G73+Artemisa!I27+'Otros clientes'!I46 -> 0 | F8: =E8*15.53 -> 0 | G8: =E8*34 -> 0 | H8: =SUM(Mayabeque!G117,Mayabeque!G161,Artemisa!I44,Artemisa!I62,'Otros clientes'!I67,'Otros clientes'!I87) -> 0 | I8: =SUM(Mayabeque!G118,Mayabeque!G162,Artemisa!I63,Artemisa!I45,'Otros clientes'!I68,'Otros clientes'!I88) -> 0 | J8: =Mayabeque!G192+Artemisa!I80+'Otros clientes'!I104 -> 0 | K8: =J8*12.44 -> 0 | L8: =SUM(G8,I8,K8) -> 0
A9: Mayo | B9: =Mayabeque!H37+'Otros clientes'!J25+Artemisa!J13 -> 0 | C9: 0 | D9: =B9*8 -> 0 | E9: ='Otros clientes'!J46+Artemisa!J27+Mayabeque!H73 -> 0 | F9: =E9*15.53 -> 0 | G9: =E9*34 -> 0 | H9: =SUM(Mayabeque!H117,Mayabeque!H161,Artemisa!J44,Artemisa!J62,'Otros clientes'!J67,'Otros clientes'!J87) -> 0 | I9: =SUM(Mayabeque!H118,Mayabeque!H162,Artemisa!J45,Artemisa!J63,'Otros clientes'!J68,'Otros clientes'!J88) -> 0 | J9: ='Otros clientes'!J104 -> 0 | K9: =J9*12.44 -> 0 | L9: =SUM(G9,I9,K9) -> 0
A10: Junio | B10: =Mayabeque!I37+'Otros clientes'!K25+Artemisa!K13 -> 0 | C10: 0 | D10: =B10*8 -> 0 | E10: =Mayabeque!I73+'Otros clientes'!K46+Artemisa!K27 -> 0 | F10: =E10*15.53 -> 0 | G10: =E10*34 -> 0 | H10: =SUM(Mayabeque!I117,Mayabeque!I161,Artemisa!K44,Artemisa!K62,'Otros clientes'!K67,'Otros clientes'!K87) -> 0 | I10: =SUM(Mayabeque!I118,Mayabeque!I162,Artemisa!K45,Artemisa!K63+'Otros clientes'!K68,'Otros clientes'!K88) -> 0 | J10: 0 | K10: =J10*12.44 -> 0 | L10: =SUM(G10,I10,K10) -> 0
A11: Julio | B11: =Mayabeque!J37+'Otros clientes'!L25+Artemisa!L13 -> 0 | C11: 0 | D11: =B11*8 -> 0 | E11: =Mayabeque!J73+'Otros clientes'!L46+Artemisa!L27 -> 0 | G11: =E11*34 -> 0 | H11: =SUM(Mayabeque!J117,Mayabeque!J161,Artemisa!L44,Artemisa!L62,'Otros clientes'!L67,'Otros clientes'!L87) -> 0 | I11: =SUM(Mayabeque!J162,Mayabeque!J118,Artemisa!L45,Artemisa!L63,'Otros clientes'!L88,'Otros clientes'!L46) -> 0 | J11: =Mayabeque!J192 -> 0 | K11: =J11*12.44 -> 0 | L11: =SUM(G11,I11,K11) -> 0
A12: Agosto | B12: =Mayabeque!K37+'Otros clientes'!M25+Artemisa!M13 -> 0 | C12: 0 | D12: =B12*8 -> 0 | E12: =Mayabeque!K73+'Otros clientes'!M46+Artemisa!M27 -> 0 | G12: =E12*34 -> 0 | H12: =SUM(Mayabeque!K117,Mayabeque!K161,Artemisa!M44,Artemisa!M62,'Otros clientes'!M67,'Otros clientes'!M87) -> 0 | I12: =SUM(Mayabeque!K118,Mayabeque!K162,Artemisa!M45,Artemisa!M63,'Otros clientes'!M68,'Otros clientes'!M88) -> 0 | J12: 0 | K12: =J12*12.44 -> 0 | L12: =SUM(G12,I12,K12) -> 0
A13: Septiembre | B13: =Mayabeque!L37+Artemisa!N13+'Otros clientes'!N25 -> 0 | C13: 0 | D13: =B13*8 -> 0 | E13: =Mayabeque!L73+Artemisa!N27+'Otros clientes'!N46 -> 0 | F13: =E13*15.53 -> 0 | G13: =E13*34 -> 0 | H13: =SUM(Mayabeque!L117,Mayabeque!L161,Artemisa!N44,Artemisa!N62,'Otros clientes'!N67,'Otros clientes'!N87) -> 0 | I13: =SUM(Mayabeque!L162,Mayabeque!L118,Artemisa!N63,Artemisa!N45,'Otros clientes'!N88,'Otros clientes'!N68) -> 0 | J13: =Mayabeque!L192+Artemisa!N80+'Otros clientes'!N104 -> 0 | K13: =J13*12.44 -> 0 | L13: =SUM(G13,I13,K13) -> 0
A14: Octubre | B14: =Mayabeque!M37+'Otros clientes'!O25+Artemisa!O13 -> 0 | C14: 0 | D14: =B14*8 -> 0 | E14: =Mayabeque!M73+Artemisa!O27+'Otros clientes'!O46 -> 0 | F14: =E14*15.53 -> 0 | G14: =E14*34 -> 0 | H14: =SUM(Mayabeque!M117,Mayabeque!M161,Artemisa!O44,Artemisa!O62,'Otros clientes'!O67,'Otros clientes'!O87) -> 0 | I14: =SUM(Mayabeque!M118,Mayabeque!M162,Artemisa!O63,Artemisa!O45,'Otros clientes'!O88,'Otros clientes'!O68) -> 0 | J14: =Mayabeque!M192+Artemisa!O80+'Otros clientes'!O67 -> 0 | K14: =J14*12.44 -> 0 | L14: =SUM(G14,I14,K14) -> 0
A15: Noviembre | B15: =Mayabeque!N37+Artemisa!P13+'Otros clientes'!P25 -> 0 | C15: 0 | D15: =B15*8 -> 0 | E15: =Mayabeque!N73+Artemisa!P27+'Otros clientes'!P46 -> 0 | F15: =E15*15.53 -> 0 | G15: =E15*34 -> 0 | H15: =SUM(Mayabeque!N117,Mayabeque!N161,Artemisa!P44,Artemisa!P62,'Otros clientes'!P67,'Otros clientes'!P87) -> 0 | I15: =SUM(Mayabeque!N162,Mayabeque!N118,Artemisa!P45,Artemisa!P63,'Otros clientes'!P68,'Otros clientes'!P88) -> 0 | J15: =Mayabeque!N192+Artemisa!P80+'Otros clientes'!P104 -> 0 | K15: =J15*12.44 -> 0 | L15: =SUM(G15,I15,K15) -> 0
A16: Diciembre | B16: =Mayabeque!O37+Artemisa!Q13+'Otros clientes'!Q25 -> 0 | C16: 0 | D16: =B16*8 -> 0 | E16: =Mayabeque!O73+Artemisa!Q27+'Otros clientes'!Q46 -> 0 | F16: =E16*15.53 -> 0 | G16: =E16*34 -> 0 | H16: =SUM(Mayabeque!O117,Mayabeque!O161,Artemisa!Q44,Artemisa!Q62,'Otros clientes'!Q67,'Otros clientes'!Q87) -> 0 | I16: =SUM(Mayabeque!O162,Mayabeque!O118,Artemisa!Q45,Artemisa!Q63,'Otros clientes'!Q68,'Otros clientes'!Q88) -> 0 | J16: =Mayabeque!O192+Artemisa!Q80+'Otros clientes'!Q104 -> 0 | K16: =J16*12.44 -> 0 | L16: =SUM(G16,I16,K16) -> 0
A17: Total | B17: =SUM(B5:B16) -> 40 | C17: =SUM(C5,C6,C7,C8,C9,C10,C11,C12,C13,C14,C15,C16) -> 600 | D17: =SUM(D5,D6,D7,D8,D9,D10,D11,D12,D13,D14,D15,D16) -> 320 | E17: =SUM(E5:E16) -> 27 | F17: =E17*15.53 -> 419.31 | G17: =SUM(G5,G6,G7,G8,G9,G10,G11,G12,G13,G14,G15,G16) -> 918 | H17: =SUM(H5:H16) -> 1400 | I17: =SUM(I5,I6,I7,I8,I9,I10,I11,I12,I13,I14,I15,I16) -> 68560 | J17: =SUM(J5:J16) -> 55 | K17: =SUM(K5,K6,K7,K8,K9,K10,K11,K12,K13,K14,K15,K16) -> 684.2 | L17: =SUM(L5,L6,L7,L8,L9,L10,L11,L12,L13,L14,L15,L16) -> 70162.2

Sheet Mayabeque
A1: Venta de productos del INCA
D2: Mayabeque | F2: Ecomic, kg
A3: Empresa | B3: PLAN | C3: REAL | D3: E | E3: F | F3: Mar | G3: A | H3: May | I3: Jun | J3: Jul | K3: Ag | L3: S | M3: O | N3: N | O3: D
A5: 19 de abril, Quivicán | C5: =SUM(D5:O5) -> 0
A6: CCS - F Camilo Cienfuegos | C6: =K6 -> 0
A7: CCS 2da Declaración de la Habana | C7: =E7+L7 -> 0
A8: Empresa Agrop. Batabanó | C8: =SUM(D8:O8) -> 0
A9: Empresa Agrop. Melena del Sur | C9: =SUM(D9:O9) -> 0
A10: CCS America Libre | C10: =N10 -> 0
A11: UBPC 3 de Octubre | C11: =O11 -> 0
A12: Emp. Agrop. Miguel Soneira, Güines | C12: =SUM(D12:O12) -> 0
A13: CCS Humberto Hdez. | C13: =N13 -> 0
A14: CCS Guerrillero Heroico | C14: =O14 -> 0
A15: Emp. de Aprov. Hidra Güines | C15: =SUM(D15:O15) -> 0
A16: Emp. Agrop. Nueva Paz | C16: =SUM(D16:O16) -> 0
A17: Nazareno (San José) | C17: =SUM(D17:O17) -> 40 | D17: 40
A18: CCS Nelson Fdez | C18: =SUM(D18:O18) -> 0
A19: UBPC José A. Varela Perez | C19: =SUM(D19:O19) -> 0
A20: Finca CTC Nacional de San José | C20: =G20 -> 0
A21: ICA | C21: =H21+L21 -> 0
A22: UBPC 55 Aniversario | C22: =L22 -> 0
A23: CCS Hugo Rivero | C23: =M23 -> 0
A24: CCS Manuel Fajardo | C24: =N24 -> 0
A25: CENSA | C25: =I25 -> 0
A26: CCS Orlando Cuella | C26: =I26 -> 0
A27: CCS José Ramón Castellanos | C27: =SUM(D27:O27) -> 0
A28: Ariguanabo, Bejucal | C28: =SUM(D28:O28) -> 0
A29: Genética del Este, Madruga | C29: =SUM(D29:O29) -> 0
A30: Villena, Madruga | C30: =SUM(D30:O30) -> 0
A31: CCS Ruben Hdez | C31: =SUM(D31:O31) -> 0
A32: Jaruco | C32: =SUM(D32:O32) -> 0
A33: CCS Pepito Tey | C33: =L33 -> 0
A34: UBPC Batalla de Santa Clara | C34: =M34 -> 0
A35: CCS Jesús Menéndez | C35: =M35 -> 0
A36: CCS ALFONSO GONZÁLEZ, San Nicolás | C36: =SUM(D36:O36) -> 0
A37: Total | B37: =SUM(B5:B30) -> 0 | C37: =SUM(D37:O37) -> 40 | D37: =SUM(D5:D36) -> 40 | E37: =SUM(E5:E36) -> 0 | F37: =SUM(F5:F36) -> 0 | G37: =SUM(G5:G36) -> 0 | H37: =SUM(H5:H36) -> 0 | I37: =SUM(I5:I36) -> 0 | J37: =SUM(J5:J36) -> 0 | K37: =SUM(K5:K36) -> 0 | ... O37: =SUM(O5:O36) -> 0
D41: Mayabeque | F41: Azofert, dosis
A42: Empresa | B42: PLAN | C42: REAL | D42: E | E42: F | F42: Mar | G42: A | H42: May | I42: Jun | J42: Jul | K42: Ag | L42: S | M42: O | N42: N | O42: D
A44: Emp. Agrop. 19 de abril, Quivicán | C44: =D44+E44+F44+G44+H44+I44+J44+K44+L44+M44+N44+O44 -> 0
A45: CCSF Camilo Cienfuegos Quivican | C45: =M45 -> 0
A46: CCS 2da Declaración de la Habana | C46: =E46+L46 -> 0
A47: Empresa Agrop. Batabanó | C47: =D47+E47+F47+G47+H47+I47+J47+K47+L47+M47+N47+O47 -> 0
A48: Emp. Agrop. Melena del Sur | C48: =D48+E48+F48+G48+H48+I48+J48+K48+L48+M48+N48+O48 -> 0
A49: CCS America Libre | C49: =N49 -> 0
A50: UBPC 3 de Octubre | C50: =O50 -> 0
A51: CCS René O. Reine | C51: =D51+E51+F51+G51+H51+I51+J51+K51+L51+M51+N51+O51 -> 0
A52: CCS Humberto Hdez. | C52: =D52+E52+F52+G52+H52+I52+J52+K52+L52+M52+N52+O52 -> 0
A53: CCS Guerrillero Heroico | C53: =SUM(D53:O53) -> 0
A54: Emp. Agrop. Nueva Paz | C54: =D54+E54+F54+G54+H54+I54+J54+K54+L54+M54+N54+O54 -> 0
A55: Emp. Agrop. Nazareno (San José) | C55: =D55+E55+F55+G55+H55+I55+J55+K55+L55+M55+N55+O55 -> 21 | D55: 21
A56: CCS Nelson Fdez | C56: =D56+E56+F56+G56+H56+I56+J56+K56+L56+M56+N56+O56 -> 0
A57: UBPC José A. Varela Perez | C57: =D57+E57+F57+G57+H57+I57+J57+K57+L57+M57+N57+O57 -> 0
A58: ICA | C58: =G58+L58 -> 0
A59: UBPC 55 Aniversario | C59: =L59 -> 0
A60: CCS Hugo Rivero | C60: =M60 -> 0
A61: CCS Manuel Fajardo | C61: =F61 -> 0
A62: CENSA | C62: =O62 -> 0
A63: CCS Orlando Cuella | C63: =I63 -> 0
A64: CCS José Ramón Castellanos | C64: =SUM(D64:O64) -> 0
A65: Ariguanabo, Bejucal | C65: =D65+E65+F65+G65+H65+I65+J65+K65+L65+M65+N65+O65 -> 0
A66: Emp. Agrop. Genética del Este, Madruga | C66: =D66+E66+F66+G66+H66+I66+J66+K66+L66+M66+N66+O66 -> 0
A67: Emp. Agrop. Villena, Madruga | C67: =D67+E67+F67+G67+H67+I67+J67+K67+L67+M67+N67+O67 -> 0
A68: CCS Ruben Hdez | C68: =SUM(D68:O68) -> 0
A69: Jaruco | C69: =D69+E69+F69+G69+H69+I69+J69+K69+L69+M69+N69+O69 -> 0
A70: CCS Pepito Tey | C70: =L70 -> 0
A71: UBPC Batalla de Santa Clara | C71: =M71 -> 0
A72: CCS Jesús Menéndez | C72: =M72 -> 0
A73: Total | B73: =SUM(B44:B67) -> 0 | C73: =D73+E73+F73+G73+H73+I73+J73+K73+L73+M73+N73+O73 -> 21 | D73: =SUM(D44:D72) -> 21 | E73: =SUM(E44:E72) -> 0 | F73: =SUM(F44:F72) -> 0 | G73: =SUM(G44:G72) -> 0 | H73: =SUM(H44:H72) -> 0 | I73: =SUM(I44:I72) -> 0 | J73: =SUM(J44:J72) -> 0 | K73: =SUM(K44:K72) -> 0 | ... O73: =SUM(O44:O72) -> 0
D79: Mayabeque | F79: Quitomax, dosis para Granos
A80: Empresa | B80: PLAN | C80: REAL | D80: E | E80: F | F80: Mar | G80: A | H80: May | I80: Jun | J80: Jul | K80: Ag | L80: S | M80: O | N80: N | O80: D
A82: Emp. Agrop. 19 de abril, Quivicán | C82: =D82+E82+F82+G82+H82+I82+J82+K82+L82+M82+N82+O82 -> 0
A83: CCSF Camilo Cienfuegos Quivican | C83: =SUM(D84+E84+F84+G84+H84+I84+J84+K84+L84+M84+N84+O84) -> 0
A84: CCS 2da Declaración de la Habana | C84: =SUM(D84+E84+F84+G84+H84+I84+J84+K84+L84+M84+N84+O84) -> 0
A85: Empresa Agrop. Batabanó | C85: =SUM(D85:O85) -> 0
A86: UBPC Comandante Guevara | C86: =SUM(D86+E86+F86+G86+H86+I86+J86+K86+L86+M86+N86+O86) -> 0
A87: Emp. Agrop. Melena del Sur | C87: =D87+E87+F87+G87+H87+I87+J87+K87+L87+M87+N87+O87 -> 0
A88: UBPC Sierra Maestra | C88: =D88+E88+F88+G88+H88+I88+J88+K88+L88+M88+N88+O88 -> 0
A89: UBPC 3 de Octubre | C89: =SUM(D89+E89+F89+G89+H89+I89+J89+K89+L89+M89+N89+O89) -> 0
A90: CCS René O. Reine | C90: =SUM(D90+E90+F90+G90+H90+I90+J90+K90+L90+M90+N90+O90) -> 0
A91: CCS America Libre | C91: =SUM(D91+E91+F91+G91+H91+I91+J91+K91+L91+M91+N91+O91) -> 0
A92: UBPC 3 de Octubre | C92: =SUM(D92+E92+F92+G92+H92+I92+J92+K92+L92+M92+N92+O92) -> 0
A93: Emp. Agrop. Miguel Soneira, Güines | C93: =D93+E93+F93+G93+H93+I93+J93+K93+L93+M93+N93+O93 -> 0
A94: CPA Nelsón Fdez | C94: =D94+E94+F94+G94+H94+I94+J94+K94+L94+M94+N94+O94 -> 0
A95: CCS Humberto Hdez. | C95: =D95+E95+F95+G95+H95+I95+J95+K95+L95+M95+N95+O95 -> 0
A96: Emp. Agrop. Nueva Paz | C96: =D96+E96+F96+G96+H96+I96+J96+K96+L96+M96+N96+O96 -> 0
A97: Emp. Agrop. Nazareno (San José) | C97: =D97+E97+F97+G97+H97+I97+J97+K97+L97+M97+N97+O97 -> 42 | D97: 42
A98: CCS Nelson Fdez | C98: =D98+E98+F98+G98+H98+I98+J98+K98+L98+M98+N98+O98 -> 0
A99: UBPC José A. Varela Perez | C99: =D99+E99+F99+G99+H99+I99+J99+K99+L99+M99+N99+O99 -> 0
A100: CCS Manuel Fajardo | C100: =D100+E100+F100+G100+H100+I100+J100+K100+L100+M100+N100+O100 -> 0
A101: UBPC 55 Aniversario | C101: =D101+E101+F101+G101+H101+I101+J101+K101+L101+M101+N101+O101 -> 40 | D101: 40
A102: ICA | C102: =D102+E102+F102+G102+H102+I102+J102+K102+L102+M102+N102+O102 -> 0
A103: CCS Hugo Rivero | C103: =D103+E103+F103+G103+H103+I103+J103+K103+L103+M103+N103+O103 -> 0
A104: CCS Manuel Fajardo | C104: =D104+E104+F104+G104+H104+I104+J104+K104+L104+M104+N104+O104 -> 0
A105: CENSA | C105: =D105+E105+F105+G105+H105+I105+J105+K105+L105+M105+N105+O105 -> 0
A106: CCS Orlando Cuellar | C106: =SUM(D106,E106,F106,G106,H106,I106,J106,K106,L106,M106,N106,O106) -> 0
A107: CCS José Ramón Castellanos | C107: =SUM(D107,E107,F107,G107,H107,I107,J107,K107,L107,M107,N107,O107) -> 0
A108: Ariguanabo, Bejucal | C108: =D108+E108+F108+G108+H108+I108+J108+K108+L108+M108+N108+O108 -> 0
A109: Emp. Agrop. Genética del Este, Madruga | C109: =D109+E109+F109+G109+H109+I109+J109+K109+L109+M109+N109+O109 -> 0
A110: Emp. Agrop. Villena, Madruga | C110: =D110+E110+F110+G110+H110+I110+J110+K110+L110+M110+N110+O110 -> 0
A111: CCS Ruben Hdez | C111: =D111+E111+F111+G111+H111+I111+J111+K111+L111+M111+N111+O111 -> 0
...

Sheet Artemisa
A1: Venta de productos del INCA
F2: Artemisa | H2: Ecomic, kg
A3: Empresa | D3: PLAN | E3: REAL | F3: E | G3: F | H3: Mar | I3: A | J3: May | K3: Jun | L3: Jul | M3: Ag | N3: S | O3: O | P3: N | Q3: D
A5: CPA Waldo Díaz | E5: =F5+G5+H5+I5+J5+K5+L5+M5+N5+O5+P5+Q5 -> 0
A6: CCSF José Fco. Costa Velazquez (Wanajay) | E6: =F6+G6+H6+I6+J6+K6+L6+M6+N6+O6+P6+Q6 -> 0
A7: CCS Vicente Pérez Noa (San Antonio) | E7: =F7+G7+H7+I7+J7+K7+L7+M7+N7+O7+P7+Q7 -> 0
A8: CCS Niceto Pérez | E8: =F8+G8+H8+I8+J8+K8+L8+M8+N8+O8+P8+Q8 -> 0
A9: CCS Conrado Benítez | E9: =F9+G9+H9+I9+J9+K9+L9+M9+N9+O9+P9+Q9 -> 0
A10: CCS Antonio Maceo | E10: =F10+G10+H10+I10+J10+K10+L10+M10+N10+O10+P10+Q10 -> 0
A11: Empresa Agropecuaria Artemisa | E11: =SUM(F11:Q11) -> 0
A12: EES Emp. Agrop Guira de Melena | E12: =F12+G12+H12+I12+J12+K12+L12+M12+N12+O12+P12+Q12 -> 0
A13: Total | D13: =SUM(D5:D12) -> 0 | E13: =SUM(F13:Q13) -> 0 | F13: =SUM(F5:F12) -> 0 | G13: =SUM(G5:G12) -> 0 | H13: =SUM(H5:H12) -> 0 | I13: =SUM(I5:I12) -> 0 | J13: =SUM(J5:J12) -> 0 | K13: =SUM(K5:K12) -> 0 | L13: =SUM(L5:L12) -> 0 | M13: =SUM(M5:M12) -> 0 | ... Q13: =SUM(Q5:Q12) -> 0
H16: Azofert, dosis
A17: Empresa | D17: PLAN | E17: REAL | F17: E | G17: F | H17: Mar | I17: A | J17: May | K17: Jun | L17: Jul | M17: Ag | N17: S | O17: O | P17: N | Q17: D
A19: CPA Waldo Díaz | E19: =F19+G19+I19+J19+K19+L19+N19+O19+P19+Q19 -> 0
A20: CCS Vicente Pérez Noa (San Antonio) | E20: =F20+G20+I20+J20+K20+L20+N20+O20+P20+Q20 -> 0
A21: CCS Niceto Pérez | E21: =F21+G21+I21+J21+K21+L21+N21+O21+P21+Q21 -> 0
A22: CCS Conrado Benítez | E22: =F22+G22+I22+J22+K22+L22+N22+O22+P22+Q22 -> 0
A23: CCS Antonio Maceo | E23: =F23+G23+I23+J23+K23+L23+N23+O23+P23+Q23 -> 0
A24: Empresa Agropecuaria Artemisa | E24: =F24+G24+I24+J24+K24+L24+N24+O24+P24+Q24 -> 0
A25: EES Emp. Agrop Guira de Melena | E25: =F25+G25+I25+J25+K25+L25+N25+O25+P25+Q25 -> 0
A27: Total | E27: =F27+G27+I27+J27+K27+L27+N27+O27+P27+Q27 -> 0 | F27: =SUM(F19:F26) -> 0 | G27: =SUM(G19:G26) -> 0 | H27: =SUM(H19:H26) -> 0 | I27: =SUM(I19:I26) -> 0 | J27: =SUM(J19:J26) -> 0 | K27: =SUM(K19:K26) -> 0 | L27: =SUM(L19:L26) -> 0 | M27: =SUM(M19:M26) -> 0 | ... Q27: =SUM(Q19:Q26) -> 0
H31: Quitomax, dosis para Granos
A32: Empresa | D32: PLAN | E32: REAL | F32: E | G32: F | H32: Mar | I32: A | J32: May | K32: Jun | L32: Jul | M32: Ag | N32: S | O32: O | P32: N | Q32: D
A34: CCS Conrado Benítez | E34: =SUM(F34:Q34) -> 0
A35: CCS Antonio Maceo | E35: =SUM(F35:Q35) -> 0
A36: Empresa Agropecuaria Alquízar | E36: =SUM(F36:Q36) -> 0
A37: CCS Niceto Pérez | E37: =SUM(F37:Q37) -> 0
A38: CCS Vicente Pérez Noa (San Antonio) | E38: =SUM(F38:Q38) -> 0
A39: Empresa Agropecuaria Artemisa | E39: =SUM(F39:Q39) -> 0
A40: EES Emp. Agrop Guira de Melena | E40: =SUM(F40:Q40) -> 0
E41: =SUM(F41:Q41) -> 0
E42: =SUM(F42:Q42) -> 0
A44: Total | E44: =SUM(E34:E43) -> 0 | F44: =SUM(F34:F43) -> 0 | G44: =SUM(G34:G43) -> 0 | H44: =SUM(H34:H43) -> 0 | I44: =SUM(I34:I43) -> 0 | J44: =SUM(J34:J43) -> 0 | K44: =SUM(K34:K43) -> 0 | L44: =SUM(L34:L43) -> 0 | ... Q44: =SUM(Q34:Q43) -> 0
A45: INGRESOS | E45: =SUM(F45,G45,H45,I45,J45,K45,L45,M45,N45,O45,P45,Q45) -> 0 | F45: =SUM(F34:F43)*34 -> 0 | G45: =SUM(G34:G43)*34 -> 0 | H45: =SUM(H34:H43)*34 -> 0 | I45: =SUM(I34:I43)*34 -> 0 | J45: =SUM(J34:J43)*34 -> 0 | K45: =SUM(K34:K43)*34 -> 0 | L45: =SUM(L34:L43)*34 -> 0 | M45: =SUM(M34:M43)*34 -> 0 | ... Q45: =SUM(Q34:Q43)*34 -> 0
H49: Quitomax, dosis para Solanáceas
A50: Empresa | D50: PLAN | E50: REAL | F50: E | G50: F | H50: Mar | I50: A | J50: May | K50: Jun | L50: Jul | M50: Ag | N50: S | O50: O | P50: N | Q50: D
A52: CCS Conrado Benítez | E52: =SUM(F52:Q52) -> 0
A53: CCS Antonio Maceo | E53: =SUM(F53:Q53) -> 0
A54: Empresa Agropecuaria Alquízar | E54: =SUM(F54:Q54) -> 250 | F54: 200 | G54: 50
A55: EES Emp. Agrop Guira de Melena | E55: =SUM(F55:Q55) -> 458 | F55: 0 | G55: 458
E56: =SUM(F56:Q56) -> 0
E57: =SUM(F57:Q57) -> 0
E58: =SUM(F58:Q58) -> 0
E59: =SUM(F59:Q59) -> 0
E60: =SUM(F60:Q60) -> 0
A62: Total | E62: =SUM(E52:E61) -> 708 | F62: =SUM(F52:F61) -> 200 | G62: =SUM(G52:G61) -> 508 | H62: =SUM(H52:H61) -> 0 | I62: =SUM(I52:I61) -> 0 | J62: =SUM(J52:J61) -> 0 | K62: =SUM(K52:K61) -> 0 | L62: =SUM(L52:L61) -> 0 | ... Q62: =SUM(Q52:Q61) -> 0
A63: INGRESOS | E63: =SUM(F63,G63,H63,I63,J63,K63,L63,M63,N63,O63,P63,Q63) -> 35400 | F63: =SUM(F52:F61)*50 -> 10000 | G63: =SUM(G52:G61)*50 -> 25400 | H63: =SUM(H52:H61)*50 -> 0 | I63: =SUM(I52:I61)*50 -> 0 | J63: =SUM(J52:J61)*50 -> 0 | K63: =SUM(K52:K61)*50 -> 0 | L63: =SUM(L52:L61)*50 -> 0 | M63: =SUM(M52:M61)*50 -> 0 | ... Q63: =SUM(Q52:Q61)*50 -> 0
H67: Pectimorf, dosis
A68: Empresa | D68: PLAN | E68: REAL | F68: E | G68: F | H68: Mar | I68: A | J68: May | K68: Jun | L68: Jul | M68: Ag | N68: S | O68: O | P68: N | Q68: D
E70: =SUM(F70:Q70) -> 0
E71: =SUM(F71:Q71) -> 0
E72: =SUM(F72:Q72) -> 0
E73: =SUM(F73:Q73) -> 0
E74: =SUM(F74:Q74) -> 0
E75: =SUM(F75:Q75) -> 0
E76: =SUM(F76:Q76) -> 0
E77: =SUM(F77:Q77) -> 0
E78: =SUM(F78:Q78) -> 0
A80: Total | E80: =SUM(E70:E79) -> 0 | F80: =SUM(F70:F79) -> 0 | G80: =SUM(G70:G79) -> 0 | H80: =SUM(H70:H79) -> 0 | I80: =SUM(I70:I79) -> 0 | J80: =SUM(J70:J79) -> 0 | K80: =SUM(K70:K79) -> 0 | L80: =SUM(L70:L79) -> 0 | ... Q80: =SUM(Q70:Q79) -> 0

Sheet Otros clientes
A2: Venta de productos del INCA | G2: Otros
H3: Ecomic, kg
A4: Empresa/Unidad | D4: PLAN | E4: REAL | F4: E | G4: F | H4: Mar | I4: Ab | J4: May | K4: Jun | L4: Jul | M4: Ag | N4: S | O4: O | P4: N | Q4: D
A6: Labiofam | E6: =F6+G6+H6+I6+J6+K6+L6+M6+N6+O6+P6+Q6 -> 0
A7: CCS Luís Ruiz Pallares (Cotorro) | E7: =F7+G7+H7+I7+J7+K7+L7+M7+N7+O7+P7+Q7 -> 0
A8: Labiofam UP7 | E8: =F8+G8+H8+I8+J8+K8+L8+M8+N8+O8+P8+Q8 -> 0
A9: Empresa Agrop. Metropolitana (Boyero) | E9: =F9+G9+H9+I9+J9+K9+L9+M9+N9+O9+P9+Q9 -> 0
A10: Labiofam Genix | E10: =F10+G10+H10+I10+J10+K10+L10+M10+N10+O10+P10+Q10 -> 0
A11: IP Rubén Villena Revolución | E11: =N11 -> 0
A12: Estación Exp. Del Tabaco | E12: =O12 -> 0
A13: CCS Enrique Hart Dávalo | E13: =F13+G13+H13+I13+J13+K13+L13+M13+N13+O13+P13+Q13 -> 0
A14: Proyecto de Sericultura | E14: =F14+G14+H14+I14+J14+K14+L14+M14+N14+O14+P14+Q14 -> 0
A15: Raúl Indalecio Ruiz La Habana | E15: =F15+G15+H15+I15+J15+K15+L15+M15+N15+O15+P15+Q15 -> 0
A16: CCS Elio Llenera | E16: =F16+G16+H16+I16+J16+K16+L16+M16+N16+O16+P16+Q16 -> 0
A17: Estación de Pastos y Forrajes Indio Hatuey | E17: =F17+G17+H17+I17+J17+K17+L17+M17+N17+O17+P17+Q17 -> 200 | G17: 200
A18: Empresa Agroforestal Jibacoa | E18: =F18+G18+H18+I18+J18+K18+L18+M18+N18+O18+P18+Q18 -> 0
A19: Universidad de Granma | E19: =SUM(F19:Q19) -> 0
A20: Empresa Logística Agropecuaria Isla de la Juventud | E20: =SUM(F20,G20,H20,I20,J20,K20,L20,M20,N20,O20,P20,Q20) -> 0
A21: CCS Camilo Cienfuegos ( Cotorro) | E21: =F21+G21+H21+I21+J21+K21+L21+M21+N21+O21+P21+Q21 -> 0
A22: CCS José Maceo (Cotorro) | E22: =F22+G22+H22+I22+J22+K22+L22+M22+N22+O22+P22+Q22 -> 0
A23: CCS Israel León (Jagüey Grande) | E23: =SUM(F23:Q23) -> 0
A24: TOTAL DE KG VENDIDOS | E24: =SUM(F6:F23) -> 0 | F24: =SUM(F6:F23) -> 0 | G24: =SUM(G6:G23) -> 200 | H24: =SUM(H6:H23) -> 0 | I24: =SUM(I6:I23) -> 0 | J24: =SUM(J6:J23) -> 0 | K24: =SUM(K6:K23) -> 0 | L24: =SUM(L6:L23) -> 0 | M24: =SUM(M6:M23) -> 0 | ... Q24: =SUM(Q6:Q23) -> 0
A25: Total CUP | D25: =SUM(D6:D22) -> 0 | E25: =SUM(F25:Q25) -> 0 | F25: =SUM(F6:F23) -> 0 | G25: =SUM(G6,G7,G8,G9,G10,G11,G12,G13,G14,G15,G16,G18,G19,G20,G21,G22,G23) -> 0 | H25: =SUM(H6:H23) -> 0 | I25: =SUM(I6:I23) -> 0 | J25: =SUM(J6:J23) -> 0 | K25: =SUM(K6:K23) -> 0 | L25: =SUM(L6:L23) -> 0 | M25: =SUM(M6:M23) -> 0 | N25: =SUM(N6:N23) -> 0 | O25: =SUM(O6:O23) -> 0 | ... Q25: =SUM(Q6:Q23) -> 0
A26: Total CUC | E26: =SUM(F26:Q26) -> 200 | G26: =SUM(G17) -> 200
H32: Azofert, dosis
A33: Empresa/Unidad | D33: PLAN | E33: REAL | F33: E | G33: F | H33: Mar | I33: A | J33: May | K33: Jun | L33: Jul | M33: Ag | N33: S | O33: O | P33: N | Q33: D
A35: CCS Luís Ruiz Pallares (Cotorro) | E35: =F35+G35+H35+K35+L35+M35+N35+O35+P35+Q35 -> 0
A36: CCS Enrique Hart Dávalo (Cotorro) | E36: =I36 -> 0
A37: Inst. Tecnológico Rubén Martinez Villena | E37: =F37+G37+H37+K37+L37+M37+N37+O37+P37+Q37 -> 0
A38: CCS Enrique Hart Dávalo | E38: =J38 -> 0
A39: Estación de Pastos y Forrajes Indio Hatuey | E39: =F39+G39+H39+K39+L39+M39+N39+O39+P39+Q39 -> 0
A40: Estación Experimental del Tabaco | E40: =F40+G40+H40+K40+L40+M40+N40+O40+P40+Q40 -> 0
A41: Universidad de Granma | E41: =SUM(F41,G41,H41,I41,J41,K41,L41,M41,N41,O41,P41,Q41) -> 0
A42: Empresa Logística Agropecuaria Isla de la Juventud | E42: =SUM(F42,G42,H42,I42,J42,K42,L42,M42,N42,O42,P42,Q42) -> 0
A43: CCS Camilo Cienfuegos ( Cotorro) | E43: =SUM(F43,G43,H43,I43,J43,K43,L43,M43,N43,O43,P43,Q43) -> 0
A44: CCS Jósé Maceo (Cotorro) | E44: =SUM(F44:Q44) -> 6 | F44: 6
A45: CCS Israel León (Jagüey Grande) | E45: =F45+G45+H45+K45+L45+M45+N45+O45+P45+Q45 -> 0
A46: Total | D46: =SUM(D35:D45) -> 0 | E46: =SUM(E35:E45) -> 6 | F46: =SUM(F35:F45) -> 6 | G46: =SUM(G35:G45) -> 0 | H46: =SUM(H35:H45) -> 0 | I46: =SUM(I35:I45) -> 0 | J46: =SUM(J35:J45) -> 0 | K46: =SUM(K35:K45) -> 0 | ... Q46: =SUM(Q35:Q45) -> 0
H51: Quitomax, dosis para Granos
A52: Empresa/Unidad | D52: PLAN | E52: REAL | F52: E | G52: F | H52: Mar | I52: A | J52: May | K52: Jun | L52: Jul | M52: Ag | N52: S | O52: O | P52: N | Q52: D
A54: CCS Luís Ruiz Pallares (Cotorro) | E54: =F54+G54+H54+I54+J54+K54+L54+M54+N54+O54+P54+Q54 -> 0
A55: CCS Enrique Hart Dávalo (Cotorro) | E55: =I55 -> 0
A56: IP Rubén Villena Revolución | E56: =N56 -> 0
A57: CCS Enrique Hart Dávalo | E57: =F57+G57+H57+K57+L57+M57+N57+O57+P57+Q57 -> 0
A58: Labiofam UP7 | E58: =I58+J58 -> 0
A59: CCS Elio Llenera | E59: =K59 -> 0
A60: Estación de Pastos y Forrajes Indio Hatuey | E60: =SUM(F60:Q60) -> 0
A61: Estación Experimental del Tabaco | E61: =SUM(F61,G61,H61,I61,J61,K61,L61,M61,N61,O61,P61,Q61) -> 0
A62: Universidad de Granma | E62: =SUM(F62,G62,H62,I62,J62,K62,L62,M62,N62,O62,P62,Q62) -> 0
A63: Empresa Logística Agropecuaria Isla de la Juventud | E63: =SUM(F63,G63,H63,I63,J63,K63,L63,M63,N63,O63,P63,Q63) -> 0
A64: CCS Camilo Cienfuegos ( Cotorro) | E64: =SUM(F64,G64,H64,I64,J64,K64,L64,M64,N64,O64,P64,Q64) -> 0
A65: CCS José Maceo (Cotorro) | E65: =SUM(F65,G65,H65,I65,J65,K65,L65,M65,N65,O65,P65,Q65) -> 8 | F65: 8
A66: CCS Israel León (Jagüey Grande)
A67: Total | E67: =SUM(E54:E59) -> 0 | F67: =SUM(F54:F66) -> 8 | G67: =SUM(G54:G66) -> 0 | H67: =SUM(H54:H66) -> 0 | I67: =SUM(I54:I66) -> 0 | J67: =SUM(J54:J66) -> 0 | K67: =SUM(K54:K66) -> 0 | L67: =SUM(L54:L66) -> 0 | M67: =SUM(M54:M66) -> 0 | ... Q67: =SUM(Q54:Q66) -> 0
A68: INGRESOS | E68: =SUM(F68,G68,H68,I68,J68,K68,L68,M68,N68,O68,P68,Q68) -> 272 | F68: =SUM(F54:F66)*34 -> 272 | G68: =SUM(G54:G66)*34 -> 0 | H68: =SUM(H54:H66)*34 -> 0 | I68: =SUM(I54:I66)*34 -> 0 | J68: =SUM(J54:J66)*34 -> 0 | K68: =SUM(K54:K66)*34 -> 0 | L68: =SUM(L54:L66)*34 -> 0 | M68: =SUM(M54:M66)*34 -> 0 | ... Q68: =SUM(Q54:Q66)*34 -> 0
H74: Quitomax, dosis para Solanáceas
A75: Empresa/Unidad | D75: PLAN | E75: REAL | F75: E | G75: F | H75: Mar | I75: A | J75: May | K75: Jun | L75: Jul | M75: Ag | N75: S | O75: O | P75: N | Q75: D
A77: CCS Luís Ruiz Pallares (Cotorro) | E77: =F77+G77+H77+I77+J77+K77+L77+M77+N77+O77+P77+Q77 -> 0
A78: CCS Enrique Hart Dávalo (Cotorro) | E78: =SUM(F78,G78,H78,I78,J78,L78,K78,M78,N78,O78,P78,Q78) -> 0
A79: IP Rubén Villena Revolución | E79: =SUM(F79,G79,H79,I79,J79,K79,L79,M79,N79,O79,P79,Q79) -> 0
A80: CCS Enrique Hart Dávalo | E80: =F80+G80+H80+K80+L80+M80+N80+O80+P80+Q80 -> 0
A81: Labiofam UP7 | E81: =SUM(F81,G81,H81,I81,J81,K81,L81,M81,N81,O81,P81,Q81) -> 0
A82: CCS Elio Llenera | E82: =SUM(F82,G82,H82,I82,J82,K82,L82,M82,N82,O82,P82,Q82) -> 0
A83: Estación de Pastos y Forrajes Indio Hatuey | E83: =SUM(F83:Q83) -> 0
A84: Estación Experimental del Tabaco | E84: =SUM(F84,G84,H84,I84,J84,K84,L84,M84,N84,O84,P84,Q84) -> 0
A85: Universidad de Granma | E85: =SUM(F85,G85,H85,I85,J85,K85,L85,M85,N85,O85,P85,Q85) -> 0
A86: Empresa Agropecuaria Horquita (Cienfuegos) | E86: =SUM(F86,G86,H86,I86,J86,K86,L86,M86,N86,O86,P86,Q86) -> 0
A87: Total | E87: =SUM(F87,G87,H87,I87,J87,K87,L87,M87,N87,O87,P87,Q87) -> 0 | F87: =SUM(F77:F86) -> 0 | G87: =SUM(G77:G86) -> 0 | H87: =SUM(H77:H86) -> 0 | I87: =SUM(I77:I86) -> 0 | J87: =SUM(J77:J86) -> 0 | K87: =SUM(K77:K86) -> 0 | L87: =SUM(L77:L86) -> 0 | M87: =SUM(M77:M86) -> 0 | ... Q87: =SUM(Q77:Q86) -> 0
A88: INGRESOS | E88: =SUM(F88:Q88) -> 0 | F88: =SUM(F77:F86)*50 -> 0 | G88: =SUM(G77:G86)*50 -> 0 | H88: =SUM(H77:H86)*50 -> 0 | I88: =SUM(I77:I86)*50 -> 0 | J88: =SUM(J77:J86)*50 -> 0 | K88: =SUM(K77:K86)*50 -> 0 | L88: =SUM(L77:L86)*50 -> 0 | M88: =SUM(M77:M86)*50 -> 0 | ... Q88: =SUM(Q77:Q86)*50 -> 0
H93: Pectimorf, dosis
A94: Empresa/Unidad | D94: PLAN | E94: REAL | F94: E | G94: F | H94: Mar | I94: A | J94: May | K94: Jun | L94: Jul | M94: Ag | N94: S | O94: O | P94: N | Q94: D
A96: CCS Luís Ruiz Pallares (Cotorro) | E96: =F96+G96+H96+I96+J96+K96+L96+M96+N96+O96+P96+Q96 -> 0
A97: Emp. Agrop. Metropolitana (Boyero) | E97: =F97+G97+H97+I97+J97+K97+L97+M97+N97+O97+P97+Q97 -> 0
A98: IP Rubén Villena Revolución | E98: =N98 -> 0
A99: CCS Enrique Hart Dávalo | E99: =H99 -> 0
A100: Estación Experimental del Tabaco | E100: =SUM(F100,G100,I100,H100,J100,K100,L100,M100,N100,O100,P100,Q100) -> 0
A101: CCS José Maceo (Cotorro) | E101: =SUM(F101,G101,H101,I101,J101,K101,L101,M101,N101,O101,P101,Q101) -> 3 | F101: 3
A102: CCS Israel León (Jagüey Grande) | E102: =SUM(F102,G102,H102,I102,J102,K102,L102,M102,N102,O102,P102,Q102) -> 0
E103: =SUM(F103,G103,H103,I103,J103,K103,L103,M103,N103,O103,P103,Q103) -> 0
A104: Total | D104: =SUM(D96:D97) -> 0 | E104: =SUM(E96:E103) -> 3 | F104: =SUM(F96:F103) -> 3 | G104: =SUM(G96:G103) -> 0 | H104: =SUM(H96:H103) -> 0 | I104: =SUM(I96:I103) -> 0 | J104: =SUM(J96:J103) -> 0 | K104: =SUM(K96:K103) -> 0 | L104: =SUM(L96:L103) -> 0 | ... Q104: =SUM(Q96:Q103) -> 0
